BEGIN:VCALENDAR
VERSION:2.0
PRODID:-//Travis County Master Gardeners Association - ECPv6.15.20//NONSGML v1.0//EN
CALSCALE:GREGORIAN
METHOD:PUBLISH
X-WR-CALNAME:Travis County Master Gardeners Association
X-ORIGINAL-URL:https://www.tcmastergardeners.org
X-WR-CALDESC:Events for Travis County Master Gardeners Association
REFRESH-INTERVAL;VALUE=DURATION:PT1H
X-Robots-Tag:noindex
X-PUBLISHED-TTL:PT1H
BEGIN:VTIMEZONE
TZID:UTC
BEGIN:STANDARD
TZOFFSETFROM:+0000
TZOFFSETTO:+0000
TZNAME:UTC
DTSTART:20180101T000000
END:STANDARD
END:VTIMEZONE
BEGIN:VEVENT
DTSTART;TZID=UTC:20200307T090000
DTEND;TZID=UTC:20200307T140000
DTSTAMP:20260423T033540
CREATED:20200228T022546Z
LAST-MODIFIED:20200228T022546Z
UID:29160-1583571600-1583589600@www.tcmastergardeners.org
SUMMARY:Sunshine Community Plant Sale
DESCRIPTION:Have a question about a plant or pest?\nOur plant clinics can be found at many Austin area gardening events. Get advice on pruning\, vegetables\, insects\, lawns\, trees and shrubs and lots more! Bring your samples and questions. The Travis County Master Gardeners are here to help!
URL:https://www.tcmastergardeners.org/event/sunshine-community-plant-sale/
LOCATION:Sunshine Community Gradens\, 4814 Sunshine Dr\, Austin\, TX\, United States
CATEGORIES:Plant Clinics
END:VEVENT
BEGIN:VEVENT
DTSTART;TZID=UTC:20200307T090000
DTEND;TZID=UTC:20200307T120000
DTSTAMP:20260423T033540
CREATED:20200228T022703Z
LAST-MODIFIED:20200228T022703Z
UID:29162-1583571600-1583582400@www.tcmastergardeners.org
SUMMARY:Adelphi Spring Plant Sale
DESCRIPTION:Have a question about a plant or pest?\nOur plant clinics can be found at many Austin area gardening events. Get advice on pruning\, vegetables\, insects\, lawns\, trees and shrubs and lots more! Bring your samples and questions. The Travis County Master Gardeners are here to help!
URL:https://www.tcmastergardeners.org/event/adelphi-spring-plant-sale/
LOCATION:Adelphi Community Gardens\, 12407 AMHERST Dr\, Austin\, TX\, 78727\, United States
CATEGORIES:Plant Clinics
END:VEVENT
BEGIN:VEVENT
DTSTART;TZID=UTC:20200229T090000
DTEND;TZID=UTC:20200229T130000
DTSTAMP:20260423T033540
CREATED:20200117T012313Z
LAST-MODIFIED:20200117T012313Z
UID:19587-1582966800-1582981200@www.tcmastergardeners.org
SUMMARY:Plant Clinic at Texas Farmers Market Lakeline
DESCRIPTION:Have a question about a plant or pest?\nOur plant clinics can be found at many Austin area gardening events. Get advice on pruning\, vegetables\, insects\, lawns\, trees and shrubs and lots more! Bring your samples and questions. The Travis County Master Gardeners are here to help!
URL:https://www.tcmastergardeners.org/event/plant-clinic-at-texas-farmers-market-lakeline-2/
LOCATION:Lakeline Mall – parking lot near Dillards\, 11200 Lakeline Mall Dr\, Cedar Park\, TX\, 78613\, United States
CATEGORIES:Plant Clinics
END:VEVENT
BEGIN:VEVENT
DTSTART;TZID=UTC:20191026T100000
DTEND;TZID=UTC:20191026T150000
DTSTAMP:20260423T033540
CREATED:20191001T061315Z
LAST-MODIFIED:20191001T061315Z
UID:1807-1572084000-1572102000@www.tcmastergardeners.org
SUMMARY:Plant Clinic at Roots & Wings Festival
DESCRIPTION:Have a question about a plant or pest?\nOur plant clinics can be found at many Austin area gardening events. Get advice on pruning\, vegetables\, insects\, lawns\, trees and shrubs and lots more! Bring your samples and questions. The Travis County Master Gardeners are here to help! \n 
URL:https://www.tcmastergardeners.org/event/plant-clinic-at-roots-wings-festival/
LOCATION:Austin Area Garden Center – Zilker Botanical Garden\, 2220 Barton Springs Road\, Austin\, TX\, United States
CATEGORIES:Plant Clinics
END:VEVENT
BEGIN:VEVENT
DTSTART;TZID=UTC:20191026T090000
DTEND;TZID=UTC:20191026T133000
DTSTAMP:20260423T033540
CREATED:20191001T061610Z
LAST-MODIFIED:20191001T061610Z
UID:1810-1572080400-1572096600@www.tcmastergardeners.org
SUMMARY:Plant Clinic at Texas Farmers Market Lakeline
DESCRIPTION:Have a question about a plant or pest?\nOur plant clinics can be found at many Austin area gardening events. Get advice on pruning\, vegetables\, insects\, lawns\, trees and shrubs and lots more! Bring your samples and questions. The Travis County Master Gardeners are here to help!
URL:https://www.tcmastergardeners.org/event/plant-clinic-at-texas-farmers-market-lakeline/
LOCATION:Lakeline Mall – parking lot near Dillards\, 11200 Lakeline Mall Dr\, Cedar Park\, TX\, 78613\, United States
CATEGORIES:Plant Clinics
END:VEVENT
BEGIN:VEVENT
DTSTART;TZID=UTC:20191023T170000
DTEND;TZID=UTC:20191023T200000
DTSTAMP:20260423T033540
CREATED:20191001T061135Z
LAST-MODIFIED:20191001T061402Z
UID:1804-1571850000-1571860800@www.tcmastergardeners.org
SUMMARY:Plant Clinic at Texas Farmers Market Mueller
DESCRIPTION:Have a question about a plant or pest?\nOur plant clinics can be found at many Austin area gardening events. Get advice on pruning\, vegetables\, insects\, lawns\, trees and shrubs and lots more! Bring your samples and questions. The Travis County Master Gardeners are here to help! \n  \n 
URL:https://www.tcmastergardeners.org/event/texas-farmers-market-mueller/
LOCATION:Mueller Lake Park\, 4550 Mueller Blvd\, Austin\, TX\, 78723\, United States
CATEGORIES:Plant Clinics
END:VEVENT
BEGIN:VEVENT
DTSTART;TZID=UTC:20190928T090000
DTEND;TZID=UTC:20190928T140000
DTSTAMP:20260423T033540
CREATED:20190830T224547Z
LAST-MODIFIED:20190830T225206Z
UID:1735-1569661200-1569679200@www.tcmastergardeners.org
SUMMARY:Plant Clinic at Earth Kind Gardening Field Day
DESCRIPTION:Have a question about a plant or pest?\nOur plant clinics can be found at many Austin area gardening events. Get advice on pruning\, vegetables\, insects\, lawns\, trees and shrubs and lots more! Bring your samples and questions. The Travis County Master Gardeners are here to help!
URL:https://www.tcmastergardeners.org/event/plant-clinic-at-earth-kind-gardening-field-day/
LOCATION:Travis Co AgriLife Extension Service Office\, 1600 Smith Road\, Austin\, TX\, 78721\, United States
CATEGORIES:Plant Clinics
END:VEVENT
BEGIN:VEVENT
DTSTART;TZID=UTC:20190928T090000
DTEND;TZID=UTC:20190928T130000
DTSTAMP:20260423T033540
CREATED:20190830T224802Z
LAST-MODIFIED:20190830T224802Z
UID:1738-1569661200-1569675600@www.tcmastergardeners.org
SUMMARY:Plant Clinic at Lakeline TX Farmers Market
DESCRIPTION:Have a question about a plant or pest?\nOur plant clinics can be found at many Austin area gardening events. Get advice on pruning\, vegetables\, insects\, lawns\, trees and shrubs and lots more! Bring your samples and questions. The Travis County Master Gardeners are here to help!
URL:https://www.tcmastergardeners.org/event/plant-clinic-at-lakeline-tx-farmers-market/
LOCATION:Lakeline Mall – parking lot near Dillards\, 11200 Lakeline Mall Dr\, Cedar Park\, TX\, 78613\, United States
CATEGORIES:Plant Clinics
END:VEVENT
BEGIN:VEVENT
DTSTART;TZID=UTC:20190928T090000
DTEND;TZID=UTC:20190928T120000
DTSTAMP:20260423T033540
CREATED:20190830T225046Z
LAST-MODIFIED:20190830T225057Z
UID:1741-1569661200-1569672000@www.tcmastergardeners.org
SUMMARY:Plant Clinic at Adelphi Fall Plant Sale
DESCRIPTION:Have a question about a plant or pest?\nOur plant clinics can be found at many Austin area gardening events. Get advice on pruning\, vegetables\, insects\, lawns\, trees and shrubs and lots more! Bring your samples and questions. The Travis County Master Gardeners are here to help!
URL:https://www.tcmastergardeners.org/event/plant-clinic-at-adelphi-fall-plant-sale/
LOCATION:Adelphi Community Gardens\, 12407 AMHERST Dr\, Austin\, TX\, 78727\, United States
CATEGORIES:Plant Clinics
END:VEVENT
BEGIN:VEVENT
DTSTART;TZID=UTC:20190927T090000
DTEND;TZID=UTC:20190927T140000
DTSTAMP:20260423T033540
CREATED:20190831T003547Z
LAST-MODIFIED:20190831T003547Z
UID:1743-1569574800-1569592800@www.tcmastergardeners.org
SUMMARY:Plant Clinic at the Austin Zoo Home School Day
DESCRIPTION:Have a question about a plant or pest?\nOur plant clinics can be found at many Austin area gardening events. Get advice on pruning\, vegetables\, insects\, lawns\, trees and shrubs and lots more! Bring your samples and questions. The Travis County Master Gardeners are here to help!
URL:https://www.tcmastergardeners.org/event/plant-clinic-at-the-austin-zoo-home-school-day/
LOCATION:Austin Zoo\, 10808 Rawhide Trail\, Austin\, TX\, 78736\, United States
CATEGORIES:Plant Clinics
END:VEVENT
BEGIN:VEVENT
DTSTART;TZID=UTC:20190925T090000
DTEND;TZID=UTC:20190925T140000
DTSTAMP:20260423T033540
CREATED:20190830T224336Z
LAST-MODIFIED:20190830T225131Z
UID:1732-1569402000-1569420000@www.tcmastergardeners.org
SUMMARY:Plant Clinic at the Mueller TX Farmers Market
DESCRIPTION:Have a question about a plant or pest?\nOur plant clinics can be found at many Austin area gardening events. Get advice on pruning\, vegetables\, insects\, lawns\, trees and shrubs and lots more! Bring your samples and questions. The Travis County Master Gardeners are here to help!
URL:https://www.tcmastergardeners.org/event/plant-clinic-at-the-mueller-tx-farmers-market/
LOCATION:Mueller Lake Park\, 4550 Mueller Blvd\, Austin\, TX\, 78723\, United States
CATEGORIES:Plant Clinics
END:VEVENT
BEGIN:VEVENT
DTSTART;TZID=UTC:20190428T083000
DTEND;TZID=UTC:20190428T123000
DTSTAMP:20260423T033540
CREATED:20190320T235805Z
LAST-MODIFIED:20190320T235805Z
UID:1492-1556440200-1556454600@www.tcmastergardeners.org
SUMMARY:Plant Clinic at St. David’s Episcopal Earth Day
DESCRIPTION:Have a question about a plant or pest?\nOur plant clinics can be found at many Austin area gardening events. Get advice on pruning\, vegetables\, insects\, lawns\, trees and shrubs and lots more! Bring your samples and questions. The Travis County Master Gardeners are here to help!
URL:https://www.tcmastergardeners.org/event/plant-clinic-at-st-davids-episcopal-earth-day/
LOCATION:St. David’s Episcopal Church\, 301 E. 8th St.\, Austin\, TX\, 78701\, United States
CATEGORIES:Plant Clinics
END:VEVENT
BEGIN:VEVENT
DTSTART;TZID=UTC:20190422T170000
DTEND;TZID=UTC:20190422T193000
DTSTAMP:20260423T033540
CREATED:20190320T235117Z
LAST-MODIFIED:20190320T235117Z
UID:1489-1555952400-1555961400@www.tcmastergardeners.org
SUMMARY:Plant Clinic at The Davis SOCO
DESCRIPTION:Have a question about a plant or pest?\nOur plant clinics can be found at many Austin area gardening events. Get advice on pruning\, vegetables\, insects\, lawns\, trees and shrubs and lots more! Bring your samples and questions. The Travis County Master Gardeners are here to help!
URL:https://www.tcmastergardeners.org/event/plant-clinic-at-the-davis-soco/
LOCATION:The Davis SOCO\, 3809 South Congress Avenue\, Austin\, TX\, 78704\, United States
CATEGORIES:Plant Clinics
END:VEVENT
BEGIN:VEVENT
DTSTART;TZID=UTC:20190407T130000
DTEND;TZID=UTC:20190407T150000
DTSTAMP:20260423T033540
CREATED:20190320T234613Z
LAST-MODIFIED:20190320T234613Z
UID:1486-1554642000-1554649200@www.tcmastergardeners.org
SUMMARY:Plant Clinic at Pioneer Crossing West Kite Festival
DESCRIPTION:Have a question about a plant or pest?\nOur plant clinics can be found at many Austin area gardening events. Get advice on pruning\, vegetables\, insects\, lawns\, trees and shrubs and lots more! Bring your samples and questions. The Travis County Master Gardeners are here to help!
URL:https://www.tcmastergardeners.org/event/plant-clinic-at-pioneer-crossing-west-kite-festival/
LOCATION:Pioneer Crossing West Pool\, 1805 Musket Valley Trail\, Austin\, TX\, 78754\, United States
CATEGORIES:Plant Clinics
END:VEVENT
BEGIN:VEVENT
DTSTART;TZID=UTC:20190406T090000
DTEND;TZID=UTC:20190406T120000
DTSTAMP:20260423T033540
CREATED:20190320T234101Z
LAST-MODIFIED:20190320T234101Z
UID:1483-1554541200-1554552000@www.tcmastergardeners.org
SUMMARY:Plant Clinic at Cherrywood Green Plant and Book Swap
DESCRIPTION:Have a question about a plant or pest?\nOur plant clinics can be found at many Austin area gardening events. Get advice on pruning\, vegetables\, insects\, lawns\, trees and shrubs and lots more! Bring your samples and questions. The Travis County Master Gardeners are here to help! \n 
URL:https://www.tcmastergardeners.org/event/plant-clinic-at-cherrywood-green-plant-and-book-swap/
LOCATION:Cherrywood Green Plant and Book Swap\, 1698 E. 34th St\, Austin\, TX\, 78722\, United States
CATEGORIES:Plant Clinics
END:VEVENT
BEGIN:VEVENT
DTSTART;TZID=UTC:20190328T120000
DTEND;TZID=UTC:20190328T190000
DTSTAMP:20260423T033540
CREATED:20190225T223707Z
LAST-MODIFIED:20190301T031519Z
UID:1406-1553774400-1553799600@www.tcmastergardeners.org
SUMMARY:Plant Clinic at SFC Farmer's Market - Baha’i Faith of Austin
DESCRIPTION:Have a question about a plant or pest?\nOur plant clinics can be found at many Austin area gardening events. Get advice on pruning\, vegetables\, insects\, lawns\, trees and shrubs and lots more! Bring your samples and questions. The Travis County Master Gardeners are here to help! \nDetails about the SFC Farmer’s Market at https://sustainablefoodcenter.org/programs/sfc-farmers-market
URL:https://www.tcmastergardeners.org/event/plant-clinic-at-sfc-farmers-market/
LOCATION:SFC Farmer’s Market – Baha’i Faith of Austin\, 2215 E M. Franklin Ave.\, Austin\, TX\, 78723\, United States
CATEGORIES:Plant Clinics
END:VEVENT
BEGIN:VEVENT
DTSTART;TZID=UTC:20190302T130000
DTEND;TZID=UTC:20190302T160000
DTSTAMP:20260423T033540
CREATED:20190220T234252Z
LAST-MODIFIED:20190225T224207Z
UID:1402-1551531600-1551542400@www.tcmastergardeners.org
SUMMARY:Plant Clinic at Elisabet Ney Museum Nature Day
DESCRIPTION:Have a question about a plant or pest?\nOur plant clinics can be found at many Austin area gardening events. Get advice on pruning\, vegetables\, insects\, lawns\, trees and shrubs and lots more! Bring your samples and questions. The Travis County Master Gardeners are here to help! \nDetails for Elisabet Ney Museum Nature Day at https://do512.com/events/2019/3/2/elisabet-ney-nature-day
URL:https://www.tcmastergardeners.org/event/plant-clinic-at-elisabet-ney-museum-nature-day/
LOCATION:Elisabet Ney Museum\, 304 E 44th St\, Austin\, TX\, 78751\, United States
CATEGORIES:Plant Clinics
END:VEVENT
BEGIN:VEVENT
DTSTART;TZID=UTC:20190302T090000
DTEND;TZID=UTC:20190302T140000
DTSTAMP:20260423T033540
CREATED:20190220T232554Z
LAST-MODIFIED:20190220T233251Z
UID:1394-1551517200-1551535200@www.tcmastergardeners.org
SUMMARY:Plant Clinic at the Sunshine Community Gardens Spring Plant Sale
DESCRIPTION:Have a question about a plant or pest?\nOur plant clinics can be found at many Austin area gardening events. Get advice on pruning\, vegetables\, insects\, lawns\, trees and shrubs and lots more! Bring your samples and questions. The Travis County Master Gardeners are here to help! \nSunshine Community Gardens Spring Plant Sale details at http://www.sunshinecommunitygardens.org/index.php?p=plantsale/index \n  \n 
URL:https://www.tcmastergardeners.org/event/plant-clinic-at-the-sunshine-community-gardens-spring-plant-sale/
LOCATION:Sunshine Community Gradens\, 4814 Sunshine Dr\, Austin\, TX\, 78756\, United States
CATEGORIES:Plant Clinics
END:VEVENT
END:VCALENDAR