BEGIN:VCALENDAR
VERSION:2.0
PRODID:-//Travis County Master Gardeners Association - ECPv6.15.20//NONSGML v1.0//EN
CALSCALE:GREGORIAN
METHOD:PUBLISH
X-ORIGINAL-URL:https://www.tcmastergardeners.org
X-WR-CALDESC:Events for Travis County Master Gardeners Association
REFRESH-INTERVAL;VALUE=DURATION:PT1H
X-Robots-Tag:noindex
X-PUBLISHED-TTL:PT1H
BEGIN:VTIMEZONE
TZID:UTC
BEGIN:STANDARD
TZOFFSETFROM:+0000
TZOFFSETTO:+0000
TZNAME:UTC
DTSTART:20150101T000000
END:STANDARD
END:VTIMEZONE
BEGIN:VTIMEZONE
TZID:America/Chicago
BEGIN:DAYLIGHT
TZOFFSETFROM:-0600
TZOFFSETTO:-0500
TZNAME:CDT
DTSTART:20150308T080000
END:DAYLIGHT
BEGIN:STANDARD
TZOFFSETFROM:-0500
TZOFFSETTO:-0600
TZNAME:CST
DTSTART:20151101T070000
END:STANDARD
BEGIN:DAYLIGHT
TZOFFSETFROM:-0600
TZOFFSETTO:-0500
TZNAME:CDT
DTSTART:20160313T080000
END:DAYLIGHT
BEGIN:STANDARD
TZOFFSETFROM:-0500
TZOFFSETTO:-0600
TZNAME:CST
DTSTART:20161106T070000
END:STANDARD
BEGIN:DAYLIGHT
TZOFFSETFROM:-0600
TZOFFSETTO:-0500
TZNAME:CDT
DTSTART:20170312T080000
END:DAYLIGHT
BEGIN:STANDARD
TZOFFSETFROM:-0500
TZOFFSETTO:-0600
TZNAME:CST
DTSTART:20171105T070000
END:STANDARD
END:VTIMEZONE
BEGIN:VTIMEZONE
TZID:America/Chicago
BEGIN:DAYLIGHT
TZOFFSETFROM:-0600
TZOFFSETTO:-0500
TZNAME:CDT
DTSTART:20140309T080000
END:DAYLIGHT
BEGIN:STANDARD
TZOFFSETFROM:-0500
TZOFFSETTO:-0600
TZNAME:CST
DTSTART:20141102T070000
END:STANDARD
BEGIN:DAYLIGHT
TZOFFSETFROM:-0600
TZOFFSETTO:-0500
TZNAME:CDT
DTSTART:20150308T080000
END:DAYLIGHT
BEGIN:STANDARD
TZOFFSETFROM:-0500
TZOFFSETTO:-0600
TZNAME:CST
DTSTART:20151101T070000
END:STANDARD
BEGIN:DAYLIGHT
TZOFFSETFROM:-0600
TZOFFSETTO:-0500
TZNAME:CDT
DTSTART:20160313T080000
END:DAYLIGHT
BEGIN:STANDARD
TZOFFSETFROM:-0500
TZOFFSETTO:-0600
TZNAME:CST
DTSTART:20161106T070000
END:STANDARD
END:VTIMEZONE
BEGIN:VEVENT
DTSTART;TZID=UTC:20170930T100000
DTEND;TZID=UTC:20170930T164500
DTSTAMP:20260423T103101
CREATED:20170901T231618Z
LAST-MODIFIED:20170901T231618Z
UID:738-1506765600-1506789900@www.tcmastergardeners.org
SUMMARY:Water-Wise Symposium for Home Gardeners
DESCRIPTION:All-Day Program Features Experts from Texas A&M AgriLife Extension Service\, Travis County Master Gardener Association and the City of Austin \nExpanding on a popular seminar series\, a Water-Wise Symposium for home gardeners has been set for September 30\, 2017 at the \nCepeda Branch\, Austin Public Library\n651 N Pleasant Valley Rd\nAustin\, TX 78702 \nParticipants will learn how to save precious water and money by capturing\, channeling and controlling water in the lawn and garden. They will get practical advice from a distinguished panel of Austin experts. Topics covered in the day-long program include rainwater collection\, rainscapes\, efficient home and garden design\, grey water use and City of Austin rebates. \nMarian Stasney\, program coordinator\, said: “Water conservation and control are increasingly crucial for Central Texas. This symposium is a unique opportunity for home gardeners to get comprehensive information all in one place\, all in one day.” Attendance at the symposium is free. But\, advance registration is required because seating is strictly limited. \nThe agenda for the full-day symposium is as follows; \n\n10:00 – 10:50   Rainwater Collection\, Ed Parken\, Travis County Master Gardener\n11:00 – 12:00   Rainscapes\, Tom Franke\, COA Watershed Protection Department\n1:00 – 1:50       Water Efficiency\, Jerry Naiser\, Travis County Master Gardener\n2:00 – 2:50       Holistic Home Design for Water Collection and Conservation\, Billy Kniffen\, Texas A&M AgriLife Extension Service\, ARCSA instructor\n3:00 – 3:50       Grey Water Use and Design\, Robert Stefani\, Austin Water\n4:00 – 4:15       Rebates from City of Austin\, Chris Charles\, COA\n4:15 – 4:45       Panel Discussion:  Best Practices\n\nAttendance at the symposium is limited to 45 people. Based on similar programs\, the symposium is likely to sell out well in advance. Interested residents should register as soon as practical. \nAttendance is free. But advance registration is required at http://bit.ly/wisewater_conservation. The program will be held at the Cepeda Branch\, Austin Public Library\, 651 N Pleasant Valley Rd\, Austin\, TX 78702. Lunch is not provided. Numerous restaurants are nearby.
URL:https://www.tcmastergardeners.org/event/water-wise-symposium-for-home-gardeners/
LOCATION:Cepeda Branch Library\, 651 N Pleasant Valley Rd\, Austin\, TX\, 78702\, United States
CATEGORIES:Landscaping,Master Gardener
END:VEVENT
BEGIN:VEVENT
DTSTART;TZID=UTC:20170909T100000
DTEND;TZID=UTC:20170909T120000
DTSTAMP:20260423T103101
CREATED:20161228T053145Z
LAST-MODIFIED:20170118T234349Z
UID:629-1504951200-1504958400@www.tcmastergardeners.org
SUMMARY:Bulbs for the Austin Area
DESCRIPTION:Are you tired of planting bulbs that bloom once and you never see them again?   Learn some of the reasons bulbs struggle in our climate and soil while others naturalize into generous clumps that you can share with your friends. Travis County Master Gardener Betty Dunn will discuss some reliable and newer varieties that grow well in our area. \nZilker Botanical Garden\n2220 Barton Springs Rd\,  Austin\, TX 78746 \nSeminar is free and open to the public. No RSVP is required. \nZilker park entrance fee is $2 per adult\, $1 per child (ages 3-12) or seniors (age 62 & over)\,  $3 for non-Austin Residents. Cash or check accepted. \nFor more information contact: Texas A&M AgriLife Extension Service – Travis County\, 512-854-9600
URL:https://www.tcmastergardeners.org/event/bulbs-for-the-austin-area/
LOCATION:Austin Area Garden Center – Zilker Botanical Garden\, 2220 Barton Springs Road\, Austin\, TX\, United States
CATEGORIES:Landscaping
END:VEVENT
BEGIN:VEVENT
DTSTART;TZID=UTC:20170805T100000
DTEND;TZID=UTC:20170805T120000
DTSTAMP:20260423T103101
CREATED:20161228T053300Z
LAST-MODIFIED:20170118T234520Z
UID:632-1501927200-1501934400@www.tcmastergardeners.org
SUMMARY:Wise Rainwater Control for Central Texas
DESCRIPTION:Raingardens\, Rainwater Collection\, Dry Creeks and Wetlands\nDrought one month\, floods the next.  Yes\, you must be gardening in Central Texas!  Can a homeowner control excess run-off from spilling into streets\, storm drains and prized succulent gardens?  What are some questions that may need to be considered before deciding to invest in any or all of the common options for water control?  Join seasoned Travis County Master Gardeners Marian Stasney and Pat Mokry for a discussion on the practical aspects of taming excess rainwater\, including functionality\, location\, construction and maintenance. \nZilker Botanical Garden\n2220 Barton Springs Rd\,  Austin\, TX 78746 \nSeminar is free and open to the public. No RSVP is required. \nZilker park entrance fee is $2 per adult\, $1 per child (ages 3-12) or seniors (age 62 & over)\,  $3 for non-Austin Residents. Cash or check accepted. \nFor more information contact: Texas A&M AgriLife Extension Service – Travis County\, 512-854-9600
URL:https://www.tcmastergardeners.org/event/wise-rainwater-control-for-central-texas/
LOCATION:Austin Area Garden Center – Zilker Botanical Garden\, 2220 Barton Springs Road\, Austin\, TX\, United States
CATEGORIES:Landscaping
END:VEVENT
BEGIN:VEVENT
DTSTART;TZID=UTC:20170506T090000
DTEND;TZID=UTC:20170506T160000
DTSTAMP:20260423T103101
CREATED:20161221T215124Z
LAST-MODIFIED:20170504T030559Z
UID:616-1494061200-1494086400@www.tcmastergardeners.org
SUMMARY:Inside Austin Gardens Tour
DESCRIPTION:5 private gardens\, 1 public garden \n9:00 am – 4:00 pm\, rain or shine \nA rare\, behind-the-scenes look at gardens that demonstrate realistic\, sustainable practices for Central Texas. \nGarden Themes: \nEarth-Kind Landscaping – environmentally friendly principles and a secret garden\nWildlife Restoration & Preservation – 23 acres of fruits\, veggies\, beehives and miniature horses\nBirds\, Butterflies\, and Zen – natives\, natural attractors along with meditation space\nSun & Shade – sunny daylilies to die for; shady umbrellas and gingers to soothe the soul\nA Journey Through Fairyland – whimsical design\, a plethora of plants and a garden piano\nAgriLife Testing Ground – rainwater collection\, new varieties and proven winners \n$20 advance purchase\n$25 on tour day\, $5 on tour day for single-garden ticket \nInformation and tickets at www.InsideAustinGardens.org
URL:https://www.tcmastergardeners.org/event/inside-austin-gardens-tour-2/
LOCATION:TX
CATEGORIES:Landscaping
END:VEVENT
BEGIN:VEVENT
DTSTART;TZID=UTC:20170408T090000
DTEND;TZID=UTC:20170408T140000
DTSTAMP:20260423T103101
CREATED:20161221T214919Z
LAST-MODIFIED:20170404T075859Z
UID:614-1491642000-1491660000@www.tcmastergardeners.org
SUMMARY:East Austin Garden Fair 2017
DESCRIPTION:A Passion for Plants: An East Austin Garden Fair\nParque Zaragoza Recreation Center\n2608 Gonzales Street\, Austin\, TX 78702\nRain or Shine – come enjoy this great event.\nAsk the experts and get garden ideas.\nKid-friendly activities!\nFree Admission\nFree Plants\nFree Garden books\, magazines\, seed catalogs and plastic garden buckets\nFree Soil Screening for food gardeners  – Bring a 2-cup soil sample in a quart zip lock bag.\nEasy instructions for soil sampling at http://austintexas.gov/soilkitchen \nTexas A&M AgriLife Extension Service\, Travis County Master Gardeners\, and Austin Parks & Recreation present the 11th annual East Austin Garden Fair. \nFree and open to the public\, this fun\, hands-on fair involves community members in creative\, low-cost ways to grow vegetables\, herbs and fruit to improve the family diet as well as information about Earth-Kind landscaping. Travis County Master Gardeners offer University-based information to fairgoers on a diverse variety of horticulture topics\, while Community Partner Organizations provide information on closely-related services\, programs and projects. \nThe fair features an assortment of DIY and demonstration activities\, including building a rain barrel\, raised bed or compost bin\, and information about waterwise irrigation methods and gardening in containers and straw bales.  Learn how to care for house plants as well as your garden tools!  Booths on backyard chickens and beekeeping are a big hit with all ages and there will be plenty of activities for kids. \nLong-standing community partners and new participants include the Sustainable Food Center\, Green Corn Project\, Home Depot Kid’s Workshop\, Austin Public Library\, Austin Resource Recovery\, City of Austin-Urban Forestry\,  Austin Herb Society\, 4-H CAPITAL AmeriCorps\, Travis County 4-H\, Travis Co Master Wellness Volunteers\, Travis County Expanded Food and Nutrition Education Program and Travis County Cooperative Extension Program-Prairie View A&M University. \nFor more information\, please call 512-854-9600. \nFlyer:  English   Spanish \nThe members of Texas A&M AgriLife will provide equal opportunities in programs and activities\, education\, and employment to all persons regardless of race\, color\, sex\, religion\, national origin\, age\, disability\, genetic information\, veteran status\, sexual orientation or gender identity.  The Texas A&M University System\, the U. S. Department of Agriculture and the County Commissioners’ Court of Texas cooperating. \nPersons with disabilities who plan to attend a meeting and who may need auxiliary aids or services are required to contact Texas A&M AgriLife Extension Service-Travis County at 512-854-9600 ten working days prior to the meeting so appropriate arrangements can be made.
URL:https://www.tcmastergardeners.org/event/east-austin-garden-fair-2/
LOCATION:TX
CATEGORIES:Gardening,Landscaping,Urban Agriculture
END:VEVENT
BEGIN:VEVENT
DTSTART;VALUE=DATE:20170325
DTEND;VALUE=DATE:20170327
DTSTAMP:20260423T103101
CREATED:20161221T214631Z
LAST-MODIFIED:20170315T224735Z
UID:611-1490400000-1490572799@www.tcmastergardeners.org
SUMMARY:Zilker Garden Festival
DESCRIPTION:Zilker Botanical Garden\n2220 Barton Springs Rd\, Austin 78746 \nSaturday: 10:00 am – 7:00 pm\nSunday: 10:00 am – 5:00 pm \nStop by the Travis County Master Gardener’s vendor tent to purchase a variety of ornamental plants\, vegetables and herbs then head over to Kids’ Corner for fun educational garden activities. \nEntrance – $10 Adults (age 13+)\, $4 Children (age 4-12)\, Under age 4 Free\nParking $5 \nFor more information visit http://www.zilkergarden.org/ZGF/index.html
URL:https://www.tcmastergardeners.org/event/zilkerfest/
LOCATION:Austin Area Garden Center – Zilker Botanical Garden\, 2220 Barton Springs Road\, Austin\, TX\, United States
CATEGORIES:Gardening,Landscaping
END:VEVENT
BEGIN:VEVENT
DTSTART;TZID=UTC:20170204T100000
DTEND;TZID=UTC:20170204T120000
DTSTAMP:20260423T103101
CREATED:20161228T052345Z
LAST-MODIFIED:20161228T052443Z
UID:618-1486202400-1486209600@www.tcmastergardeners.org
SUMMARY:All About Roses
DESCRIPTION:Incorporate user friendly roses into your new or existing garden plans! Travis County Master Gardener Cher Coleman has 30 years’ experience in the use of roses in a landscape. She will teach you methods for proper selection of rose varieties\, site prep and maintenance like pruning\, pest control and fertilization.  This session is excellent for newbies and experienced gardeners and questions are encouraged. \nZilker Botanical Garden\n2220 Barton Springs Rd\,  Austin\, TX 78746 \nSeminar is free and open to the public. No RSVP is required. \nZilker park entrance fee is $2 per adult\, $1 per child (ages 3-12) or seniors (age 62 & over)\,  $3 for non-Austin Residents. Cash or check accepted. \nFor more information contact: Texas A&M AgriLife Extension Service – Travis County\, 512-854-9600
URL:https://www.tcmastergardeners.org/event/all-about-roses/
LOCATION:Austin Area Garden Center – Zilker Botanical Garden\, 2220 Barton Springs Road\, Austin\, TX\, United States
CATEGORIES:Landscaping
END:VEVENT
BEGIN:VEVENT
DTSTART;TZID=UTC:20161105T090000
DTEND;TZID=UTC:20161105T130000
DTSTAMP:20260423T103101
CREATED:20160806T013231Z
LAST-MODIFIED:20160806T013523Z
UID:579-1478336400-1478350800@www.tcmastergardeners.org
SUMMARY:Using Water Wisely - Demonstration Field Day
DESCRIPTION:Learn about the entire spectrum of water saving solutions from high tech to no tech at the Texas A&M AgriLife Extension Office Demonstration Field Day in Austin.  You determine the best answer for your situation and pocket book.   Travis County Master Gardeners and Horticulturist Daphne Richards will be available to demonstrate and answer your questions on a one- on-one basis. \nDiscover various rain water catchment methods.   See examples of various watering methods from a wicking bed to drip irrigation.  Understand the importance of compost for water conservation and plant health.  Gain knowledge about the importance of selecting the right plant for the spot.  Look at ways to control heat (summer and winter) to increase vegetable garden production. \nCome stroll the diverse garden and ask questions.  Enjoy watching the butterflies\, bees\, blooming flowers\, and growing vegetables.  Take home lettuce seeds and how-to knowledge to accomplish your next project. \nDemonstration Field Day is free and open to the public – No RSVP is required. \nFor more information\, contact Texas A&M AgriLife Extension Service – Travis County\, 512-854-9600.
URL:https://www.tcmastergardeners.org/event/using-water-wisely-demonstration-field-day/
LOCATION:Travis Co AgriLife Extension Service Office\, 1600 Smith Road\, Austin\, TX\, 78721\, United States
CATEGORIES:Gardening,Landscaping,Urban Agriculture
ATTACH;FMTTYPE=image/jpeg:https://www.tcmastergardeners.org/wp-content/uploads/2016/08/Texas-SuperStar-Vinca-e1470429305208.jpg
END:VEVENT
BEGIN:VEVENT
DTSTART;TZID=America/Chicago:20160716T100000
DTEND;TZID=America/Chicago:20160716T120000
DTSTAMP:20260423T103101
CREATED:20160225T032052Z
LAST-MODIFIED:20160225T032131Z
UID:480-1468663200-1468670400@www.tcmastergardeners.org
SUMMARY:Easy Composting with Worms!
DESCRIPTION:Let these “little composters” save landfill space while turning your kitchen vegetable and fruit waste into black gold! Even if you live in an apartment you can host a small bin under the kitchen sink. Worm castings are useful in many ways: compost tea\, potting soils\, top dressing for house plants and seedlings\, to name a few. Tommie Clayton\, Master Gardener Compost Specialist\, will show you how worm bins work\, demonstrate how to construct your own worm bin and get it started\, methods for harvesting castings plus brewing your own compost tea. \nZilker Botanical Garden\n2220 Barton Springs Rd\,  Austin\, TX 78746 \nSeminar is free and open to the public. No RSVP is required.\nZilker park entrance fee is $2 per adult\, $1 per child (ages 3-12) or seniors (age 62 & over)\,  $3 for non-Austin Residents. Cash or check accepted.\nFor more information contact: Texas A&M AgriLife Extension Service – Travis County\, 512-854-9600
URL:https://www.tcmastergardeners.org/event/easy-composting-with-worms/
LOCATION:Austin Area Garden Center – Zilker Botanical Garden\, 2220 Barton Springs Road\, Austin\, TX\, United States
CATEGORIES:Gardening,Landscaping,Master Gardener,Urban Agriculture
ATTACH;FMTTYPE=image/gif:https://www.tcmastergardeners.org/wp-content/uploads/2016/02/Worms-Clayton-150x150.gif
END:VEVENT
BEGIN:VEVENT
DTSTART;TZID=America/Chicago:20160514T100000
DTEND;TZID=America/Chicago:20160514T120000
DTSTAMP:20260423T103101
CREATED:20160225T031559Z
LAST-MODIFIED:20160225T031647Z
UID:477-1463220000-1463227200@www.tcmastergardeners.org
SUMMARY:Firewise Gardening
DESCRIPTION:A fire action plan saves lives and property through advance planning. Learn how to take steps to protect yourself and help first responders help you! Master Gardener Cher Coleman will provide you with landscaping tips to create a defensible space\, things you can do to make your home more fire resistant. Review checklists for family preparedness\, disaster plans and evacuations provided by the Texas Forestry Service and the Austin Fire Department. \nZilker Botanical Garden\n2220 Barton Springs Rd\,  Austin\, TX 78746 \nSeminar is free and open to the public. No RSVP is required.\nZilker park entrance fee is $2 per adult\, $1 per child (ages 3-12) or seniors (age 62 & over)\,  $3 for non-Austin Residents. Cash or check accepted.\nFor more information contact: Texas A&M AgriLife Extension Service – Travis County\, 512-854-9600
URL:https://www.tcmastergardeners.org/event/firewise-gardening/
LOCATION:Austin Area Garden Center – Zilker Botanical Garden\, 2220 Barton Springs Road\, Austin\, TX\, United States
CATEGORIES:Landscaping,Master Gardener
ATTACH;FMTTYPE=image/jpeg:https://www.tcmastergardeners.org/wp-content/uploads/2016/02/Firewise-Coleman.jpg
END:VEVENT
BEGIN:VEVENT
DTSTART;TZID=UTC:20160512T100000
DTEND;TZID=UTC:20160512T120000
DTSTAMP:20260423T103101
CREATED:20160115T001217Z
LAST-MODIFIED:20160225T033050Z
UID:468-1463047200-1463054400@www.tcmastergardeners.org
SUMMARY:Tree Care
DESCRIPTION:Many trees are stressed by prolonged periods of hot\, dry weather. Selecting trees that use water efficiently is one way to make your landscape more resistant to drought. Learn about several tree maintenance procedures to increase a tree’s chance during drought such as mulching\, proper pruning\, limiting fertilization and supplemental irrigation. Lara Schuman\, an ISA Certified Arborist and acting Program Manager at City of Austin Urban Forestry will share her knowledge on caring for trees. \nPart of the Dealing with Drought Series\nCost: $10 through 5/02; $15 starting 5/03 and on-site\nNO cash accepted – checks and credit cards only. \nSpace is limited so register on-line early to reserve your seat!\nRegister: https://agriliferegister.tamu.edu/TravisCounty\nRegister by Phone: 979-845-2604
URL:https://www.tcmastergardeners.org/event/tree-care/
LOCATION:Travis Co AgriLife Extension Service Office\, 1600 Smith Road\, Austin\, TX\, 78721\, United States
CATEGORIES:Landscaping
ATTACH;FMTTYPE=image/jpeg:https://www.tcmastergardeners.org/wp-content/uploads/2016/01/Tree-Care-Schuman-2016-140x150.jpg
ORGANIZER;CN="Sue Carrasco":MAILTO:sacarrasco@ag.tamu.edu
END:VEVENT
BEGIN:VEVENT
DTSTART;TZID=UTC:20160310T100000
DTEND;TZID=UTC:20160310T120000
DTSTAMP:20260423T103101
CREATED:20160115T000621Z
LAST-MODIFIED:20160225T032800Z
UID:464-1457604000-1457611200@www.tcmastergardeners.org
SUMMARY:Lawn Maintenance for Water Conservation
DESCRIPTION:When there are drought conditions in Central Texas\, landscape plants become water-stressed so it’s important to look at how you are caring for your lawn to help it survive.  Learn how to look for signs of insects\, diseases and weeds.  In addition\, find out the best way to water\, fertilize\, and mow your lawn.   Daphne Richards\, County Extension Agent—Horticulture Texas A&M AgriLife Extension Service Travis County leads educational programming in the areas of home horticulture\, urban agriculture\, and the green industry.  She also serves as the coordinator of the local Master Gardener program.  Watch her each week on the award-winning television program “Central Texas\nGardener”.  You might also see her around town at various gardening events with Augie\, her sweet little Dachshund. \nPart of the Dealing with Drought Series\nCost: $10 through 2/29; $15 starting 3/1 and on-site\nNO cash accepted – checks and credit cards only. \nSpace is limited so register on-line early to reserve your seat!\nRegister: https://agriliferegister.tamu.edu/TravisCounty\nRegister by Phone: 979-845-2604
URL:https://www.tcmastergardeners.org/event/lawn-maintenance-for-water-conservation/
LOCATION:Travis Co AgriLife Extension Service Office\, 1600 Smith Road\, Austin\, TX\, 78721\, United States
CATEGORIES:Landscaping,Master Gardener
ATTACH;FMTTYPE=image/jpeg:https://www.tcmastergardeners.org/wp-content/uploads/2016/01/Lawn-Richards-2-150x150.jpg
ORGANIZER;CN="Sue Carrasco":MAILTO:sacarrasco@ag.tamu.edu
END:VEVENT
BEGIN:VEVENT
DTSTART;VALUE=DATE:20151017
DTEND;VALUE=DATE:20151018
DTSTAMP:20260423T103101
CREATED:20150612T031143Z
LAST-MODIFIED:20150612T031743Z
UID:381-1445040000-1445126399@www.tcmastergardeners.org
SUMMARY:Inside Austin Gardens Tour
DESCRIPTION:The Travis County Master Gardeners Association has set Saturday\, October 17\, 2015 for their popular Inside Austin Gardens Tour (IAGT). The tour provides a rare look inside six private gardens and one public experimental garden that demonstrate realistic\, sustainable gardening practices for Central Texas. \nTickets are $19 advance purchase\, $20 purchased at the tour. \nFor details and to purchase advance tickets\, go to insideaustingardens.org
URL:https://www.tcmastergardeners.org/event/inside-austin-gardens-tour/
LOCATION:TX
CATEGORIES:Gardening,Landscaping,Master Gardener
ATTACH;FMTTYPE=image/png:https://www.tcmastergardeners.org/wp-content/uploads/2015/06/IAGTheader.png
END:VEVENT
BEGIN:VEVENT
DTSTART;TZID=America/Chicago:20151008T100000
DTEND;TZID=America/Chicago:20151008T120000
DTSTAMP:20260423T103101
CREATED:20150630T220300Z
LAST-MODIFIED:20150630T220300Z
UID:396-1444298400-1444305600@www.tcmastergardeners.org
SUMMARY:Backyard Basics – Plant Propagation
DESCRIPTION:Learn how to make new plants for your yard through propagation methods such as rooting slips and cuttings. In this workshop you will assemble a self-watering propagator and select cuttings to grow new plants. All supplies\, instructions\, and cuttings will be provided for each participant. Master Gardener Sue King\, a Plant Propagation Specialist\, is a retired school librarian\, an avid soup-maker\, and a life-long gardener. Master Gardener Carolyn Turman found propagating plants using cuttings as an easy and inexpensive way to add wonderful additions to her landscape. \nSpace is limited to 25 – register on-line. No on-site registration available.\nCost: $25 thru 9/28\, $30 starting 9/29. No cash accepted-checks & credit cards only.\nRegister: https://agriliferegister.tamu.edu/TravisCounty \nRegister by Phone: 979-845-2604\nContact: Sue Carrasco\, 512-854-9610 or sacarrasco@ag.tamu.edu
URL:https://www.tcmastergardeners.org/event/backyard-basics-plant-propagation/
LOCATION:Travis Co AgriLife Extension Service Office\, 1600 Smith Road\, Austin\, TX\, 78721\, United States
CATEGORIES:Gardening,Landscaping,Master Gardener,Urban Agriculture
ATTACH;FMTTYPE=image/jpeg:https://www.tcmastergardeners.org/wp-content/uploads/2015/06/BYBPlantPropagation5.jpg
ORGANIZER;CN="Sue Carrasco":MAILTO:sacarrasco@ag.tamu.edu
END:VEVENT
BEGIN:VEVENT
DTSTART;TZID=America/Chicago:20150611T100000
DTEND;TZID=America/Chicago:20150611T120000
DTSTAMP:20260423T103101
CREATED:20150413T223148Z
LAST-MODIFIED:20150413T223148Z
UID:74-1434016800-1434024000@www.tcmastergardeners.org
SUMMARY:Dealing with Drought - Preparing for the Fall Garden
DESCRIPTION:Imagine gardening without sweat dripping from your brow or mosquitos buzzing in your ears or having to water every day. Those are just a few of the many benefits of the cool season vegetable garden. Join us as we discuss vegetable selection\, soil preparation and the importance of timing for the fall and winter garden. \nMaster Gardener Patty Leander is a writer for Texas Gardener magazine and grows vegetables year round in her Oak Hill garden. \n  \nRegistration: $10 through 6/07\, $15 starting 6/08 and onsite\nhttps://agriliferegister.tamu.edu/TravisCounty \nTexas A&M AgriLife Extension Service Backyard Basics series.\nFor more information contact: Texas A&M AgriLife Extension Service – Travis County\, 512-854-9600
URL:https://www.tcmastergardeners.org/event/dealing-with-drought-preparing-for-the-fall-garden/
LOCATION:Travis Co AgriLife Extension Service Office\, 1600 Smith Road\, Austin\, TX\, 78721\, United States
CATEGORIES:Gardening,Landscaping,Master Gardener
ATTACH;FMTTYPE=image/jpeg:https://www.tcmastergardeners.org/wp-content/uploads/2015/04/DWDPattyFallGarden-e1423605926632.jpg
END:VEVENT
BEGIN:VEVENT
DTSTART;TZID=America/Chicago:20150514T100000
DTEND;TZID=America/Chicago:20150514T120000
DTSTAMP:20260423T103101
CREATED:20150413T222744Z
LAST-MODIFIED:20150413T222744Z
UID:71-1431597600-1431604800@www.tcmastergardeners.org
SUMMARY:Dealing with Drought - Alternative Methods of Gardening
DESCRIPTION:If you have limited garden space or time yet still have a desire to nurture your green thumb\, Master Gardener Pat Mokry will teach you how to raise carefree veggies\, herbs and flowers using self-sufficient grow boxes. Then\, for some more ‘new’ gardening techniques\, Master Gardener Marian Stasney will describe the ancient practices of both keyhole gardening and hugelkultur. \nRegistration: $10 through 5/10\, $15 starting 5/11 and onsite\nhttps://agriliferegister.tamu.edu/TravisCounty \nTexas A&M AgriLife Extension Service – Dealing with Drought series.\nFor more information contact: Texas A&M AgriLife Extension Service – Travis County\, 512-854-9600.
URL:https://www.tcmastergardeners.org/event/dealing-with-drought-alternative-methods-of-gardening/
LOCATION:Travis Co AgriLife Extension Service Office\, 1600 Smith Road\, Austin\, TX\, 78721\, United States
CATEGORIES:Gardening,Landscaping,Master Gardener
ATTACH;FMTTYPE=image/png:https://www.tcmastergardeners.org/wp-content/uploads/2015/04/DwDAltGardening-e1423605848612.png
END:VEVENT
BEGIN:VEVENT
DTSTART;TZID=America/Chicago:20150509T100000
DTEND;TZID=America/Chicago:20150509T120000
DTSTAMP:20260423T103101
CREATED:20150413T222257Z
LAST-MODIFIED:20150413T222308Z
UID:68-1431165600-1431172800@www.tcmastergardeners.org
SUMMARY:Butterflies in the Garden
DESCRIPTION:Butterflies in the Garden: Wanting to start a butterfly garden for you school or even your own backyard? Maybe\, you have a small garden and just want to help encourage pollinators to pay you plants a visit. In this talk we will focus on butterflies and how you can invite them into your space. Kellyn Smith has been a Master Gardener since 2013. A lover of all insects she has a specialty in entomology and founded the butterfly garden at her school\, a place she and her students treasure. \nPresented by Travis County Master Gardeners.  For more information contact: Texas A&M AgriLife Extension Service – Travis County\, 512-854-9600 \nSee the Workshops & Events Calendar for more information.\nhttp://aggie-horticulture.tamu.edu/travis/local-extension-resources/calendar-2/
URL:https://www.tcmastergardeners.org/event/68/
LOCATION:Austin Area Garden Center – Zilker Botanical Garden\, 2220 Barton Springs Road\, Austin\, TX\, United States
CATEGORIES:Gardening,Landscaping,Master Gardener
ATTACH;FMTTYPE=image/jpeg:https://www.tcmastergardeners.org/wp-content/uploads/2015/04/Butterfly-KSmith-e1423604664430.jpg
END:VEVENT
END:VCALENDAR